BEGIN:VCALENDAR
VERSION:2.0
PRODID:-//ChamberMaster//Event Calendar 2.0//EN
METHOD:PUBLISH
X-PUBLISHED-TTL:P3D
REFRESH-INTERVAL:P3D
CALSCALE:GREGORIAN
BEGIN:VEVENT
DTSTART:20210616T130000Z
DTEND:20210616T200000Z
X-MICROSOFT-CDO-ALLDAYEVENT:FALSE
SUMMARY:Golf Outing 2021
DESCRIPTION:60th Annual Golf Outing
X-ALT-DESC;FMTTYPE=text/html:60th Annual Golf Outing&nbsp\;&nbsp\;&nbsp\;&nbsp\;&nbsp\;&nbsp\;&nbsp\;&nbsp\;
LOCATION:Centennial Park Golf Course
UID:e.1835.4824
SEQUENCE:3
DTSTAMP:20260421T062314Z
URL:http://chambermunster.chambermaster.com/events/details/golf-outing-2021-4824
END:VEVENT

END:VCALENDAR
